BEGIN:VCALENDAR
VERSION:2.0
PRODID:-//Kulvio Event Calendar//kulvio.de//
CALSCALE:GREGORIAN
METHOD:PUBLISH
BEGIN:VEVENT
SUMMARY:Leonce und Lena — Georg Büchner Komödie auf der BüchnerBühne
DTSTART:20260508T173000Z
DTEND:20260508T183000Z
DTSTAMP:20260421T042809Z
UID:kulvio-event-2942@kulvio.de
CATEGORIES:Theater
CREATED:20260419T161330Z
DESCRIPTION:Die BüchnerBühne zeigt Georg Büchners Komödie Leonce und L
 ena in ihrer Spielstätte in Riedstadt-Goddelau. Das satirische Lustspiel 
 über zwei gelangweilte Adlige gehört zu den Klassikern der deutschen Lit
 eratur und wird am Geburtsort des Autors aufgeführt. Die Vorstellung begi
 nnt um 19:30 Uhr. Tickets gibt es über Reservix.
GEO:49.85702;8.445091
LAST-MODIFIED:20260419T163353Z
LOCATION:BüchnerBühne\, Kirchstraße 16\, 64560\, Riedstadt
STATUS:CONFIRMED
URL:https://kulvio.de/event/2942
END:VEVENT
END:VCALENDAR
