BEGIN:VCALENDAR
VERSION:2.0
PRODID:-//Kulvio Event Calendar//kulvio.de//
CALSCALE:GREGORIAN
METHOD:PUBLISH
BEGIN:VEVENT
SUMMARY:34. Riedstädter Öko-Markt in Erfelden
DTSTART:20260514T080000Z
DTEND:20260514T160000Z
DTSTAMP:20260421T042459Z
UID:kulvio-event-2943@kulvio.de
CATEGORIES:Wochenmarkt
CREATED:20260419T161330Z
DESCRIPTION:Der 34. Riedstädter Öko-Markt auf dem Richthofenplatz in Erf
 elden bietet ein breites Angebot an regionalen und ökologischen Produkten
 . Von feinen Ölen über Seifen bis hin zu Honigprodukten und regionalen L
 ebensmitteln reicht das Sortiment der Aussteller. Der Markt findet von 10 
 bis 18 Uhr statt und der Eintritt ist frei.
GEO:49.833377;8.469653
LAST-MODIFIED:20260419T163353Z
LOCATION:Richthofenplatz\, 64560\, Riedstadt
STATUS:CONFIRMED
URL:https://kulvio.de/event/2943
END:VEVENT
END:VCALENDAR
