BEGIN:VCALENDAR
VERSION:2.0
PRODID:-//Kulvio Event Calendar//kulvio.de//
CALSCALE:GREGORIAN
METHOD:PUBLISH
BEGIN:VEVENT
SUMMARY:Rudis Reichskabarett — Premiere auf der BüchnerBühne
DTSTART:20260515T173000Z
DTEND:20260515T183000Z
DTSTAMP:20260421T042005Z
UID:kulvio-event-2944@kulvio.de
CATEGORIES:Kabarett,Theater
CREATED:20260419T161330Z
DESCRIPTION:Rudis Reichskabarett feiert seine Premiere auf der BüchnerBü
 hne in Riedstadt-Goddelau. Die neue Produktion des Theaters verbindet poli
 tisches Kabarett mit musikalischen Elementen im Stil der Weimarer Republik
 . Die Uraufführung beginnt um 19:30 Uhr in der intimen Spielstätte in de
 r Kirchstraße.
GEO:49.85702;8.445091
LAST-MODIFIED:20260419T163353Z
LOCATION:BüchnerBühne\, Kirchstraße 16\, 64560\, Riedstadt
STATUS:CONFIRMED
URL:https://kulvio.de/event/2944
END:VEVENT
END:VCALENDAR
