BEGIN:VCALENDAR
VERSION:2.0
PRODID:-//Kulvio Event Calendar//kulvio.de//
CALSCALE:GREGORIAN
METHOD:PUBLISH
BEGIN:VEVENT
SUMMARY:BüchnerLand-Festival 2026 — Donnerstag
DTSTART:20260618T120000Z
DTEND:20260618T200000Z
DTSTAMP:20260421T042006Z
UID:kulvio-event-2945@kulvio.de
CATEGORIES:Festival,Theater
CREATED:20260419T161331Z
DESCRIPTION:Das BüchnerLand-Festival startet am Donnerstag in Riedstadt m
 it einem viertägigen Kulturprogramm rund um das Erbe Georg Büchners. Das
  Festival bringt Theater\, Musik\, Lesungen und Performances an verschiede
 ne Spielorte der Stadt. Der Eintritt ist an allen Tagen frei und das Progr
 amm richtet sich an ein breites Publikum.
GEO:49.85702;8.445091
LAST-MODIFIED:20260419T163353Z
LOCATION:Kirchstraße 16\, 64560\, Riedstadt
STATUS:CONFIRMED
URL:https://kulvio.de/event/2945
END:VEVENT
END:VCALENDAR
