BEGIN:VCALENDAR
VERSION:2.0
PRODID:-//Kulvio Event Calendar//kulvio.de//
CALSCALE:GREGORIAN
METHOD:PUBLISH
BEGIN:VEVENT
SUMMARY:BüchnerLand-Festival 2026 — Freitag
DTSTART:20260619T120000Z
DTEND:20260619T210000Z
DTSTAMP:20260421T042308Z
UID:kulvio-event-2946@kulvio.de
CATEGORIES:Festival,Theater
CREATED:20260419T161331Z
DESCRIPTION:Am Freitag bietet das BüchnerLand-Festival in Riedstadt ein a
 bwechslungsreiches Programm aus Theater\, Musik und Literatur an verschied
 enen Spielstätten. Das Festival widmet sich dem kulturellen Erbe der Büc
 hnerstadt und bringt regionale und überregionale Künstler zusammen. Der 
 Eintritt ist frei.
GEO:49.85702;8.445091
LAST-MODIFIED:20260419T163353Z
LOCATION:Kirchstraße 16\, 64560\, Riedstadt
STATUS:CONFIRMED
URL:https://kulvio.de/event/2946
END:VEVENT
END:VCALENDAR
