BEGIN:VCALENDAR
VERSION:2.0
PRODID:-//Kulvio Event Calendar//kulvio.de//
CALSCALE:GREGORIAN
METHOD:PUBLISH
BEGIN:VEVENT
SUMMARY:BüchnerLand-Festival 2026 — Samstag
DTSTART:20260620T090000Z
DTEND:20260620T210000Z
DTSTAMP:20260421T042310Z
UID:kulvio-event-2947@kulvio.de
CATEGORIES:Festival,Konzert,Theater
CREATED:20260419T161331Z
DESCRIPTION:Am Samstag erreicht das BüchnerLand-Festival in Riedstadt sei
 nen Höhepunkt mit Aufführungen\, Konzerten und einem bunten Kulturprogra
 mm. Das Festival nutzt verschiedene Spielorte in der Büchnerstadt und lä
 dt zum Entdecken und Verweilen ein. Der Eintritt ist auch am Samstag frei.
GEO:49.85702;8.445091
LAST-MODIFIED:20260419T163353Z
LOCATION:Kirchstraße 16\, 64560\, Riedstadt
STATUS:CONFIRMED
URL:https://kulvio.de/event/2947
END:VEVENT
END:VCALENDAR
