BEGIN:VCALENDAR
VERSION:2.0
PRODID:-//Kulvio Event Calendar//kulvio.de//
CALSCALE:GREGORIAN
METHOD:PUBLISH
BEGIN:VEVENT
SUMMARY:BüchnerLand-Festival 2026 — Sonntag
DTSTART:20260621T090000Z
DTEND:20260621T180000Z
DTSTAMP:20260421T042311Z
UID:kulvio-event-2948@kulvio.de
CATEGORIES:Festival,Theater
CREATED:20260419T161331Z
DESCRIPTION:Am Sonntag klingt das BüchnerLand-Festival in Riedstadt mit e
 inem letzten Programmtag aus. Matineen\, Lesungen und Abschlussvorstellung
 en runden das viertägige Kulturfestival ab. Das Festival widmet sich der 
 Pflege des literarischen Erbes von Georg Büchner. Der Eintritt ist frei.
GEO:49.85702;8.445091
LAST-MODIFIED:20260419T163353Z
LOCATION:Kirchstraße 16\, 64560\, Riedstadt
STATUS:CONFIRMED
URL:https://kulvio.de/event/2948
END:VEVENT
END:VCALENDAR
