BEGIN:VCALENDAR
VERSION:2.0
PRODID:-//Kulvio Event Calendar//kulvio.de//
CALSCALE:GREGORIAN
METHOD:PUBLISH
BEGIN:VEVENT
SUMMARY:Absinto Orkestra — Konzert auf der BüchnerBühne Riedstadt
DTSTART:20261220T183000Z
DTEND:20261220T193000Z
DTSTAMP:20260421T041937Z
UID:kulvio-event-2949@kulvio.de
CATEGORIES:Konzert
CREATED:20260419T161331Z
DESCRIPTION:Das Absinto Orkestra gastiert auf der BüchnerBühne in Riedst
 adt mit einem Konzert aus Folk und Weltmusik. Die Formation zählt zu den 
 herausragenden Live-Acts der internationalen Folk- und World-Music-Szene u
 nd verbindet Balkan-Klänge mit Jazz und Klezmer. Das Konzert beginnt um 1
 9:30 Uhr in der Kirchstraße.
GEO:49.85702;8.445091
LAST-MODIFIED:20260419T163353Z
LOCATION:BüchnerBühne\, Kirchstraße 16\, 64560\, Riedstadt
STATUS:CONFIRMED
URL:https://kulvio.de/event/2949
END:VEVENT
END:VCALENDAR
