BEGIN:VCALENDAR
VERSION:2.0
PRODID:-//Kulvio Event Calendar//kulvio.de//
CALSCALE:GREGORIAN
METHOD:PUBLISH
BEGIN:VEVENT
SUMMARY:Weihnachtsmarkt Goddelau am BüchnerHaus
DTSTART:20261205T130000Z
DTEND:20261205T190000Z
DTSTAMP:20260421T042310Z
UID:kulvio-event-2950@kulvio.de
CATEGORIES:Weihnachtsmarkt
CREATED:20260419T161331Z
DESCRIPTION:Der Goddelauer Weihnachtsmarkt findet am Samstag vor dem zweit
 en Advent rund um das BüchnerHaus in der Weidstraße statt. An den Ständ
 en gibt es Glühwein\, Bratwurst\, Crêpes\, Adventskränze\, Schmuck und 
 Holzdekorationen. Der Erlös kommt sozialen Einrichtungen in der Region zu
 gute. Der Eintritt ist frei.
GEO:49.835542;8.500514
LAST-MODIFIED:20260419T163353Z
LOCATION:BüchnerHaus\, Weidstraße 9\, 64560\, Riedstadt
STATUS:CONFIRMED
URL:https://kulvio.de/event/2950
END:VEVENT
END:VCALENDAR
