BEGIN:VCALENDAR
VERSION:2.0
PRODID:-//Kulvio Event Calendar//kulvio.de//
CALSCALE:GREGORIAN
METHOD:PUBLISH
BEGIN:VEVENT
SUMMARY:Echzeller Kerb 2026 — Freitag
DTSTART:20261002T160000Z
DTEND:20261002T215900Z
DTSTAMP:20260421T042939Z
UID:kulvio-event-2951@kulvio.de
CATEGORIES:Stadtfest,Tradition
CREATED:20260419T161341Z
DESCRIPTION:Die Echzeller Kerb eröffnet am Freitag mit dem traditionellen
  Kerbstart am Festplatz nahe dem Bahnhof. Die Kirchweih gehört zu den wic
 htigsten jährlichen Festen der Gemeinde Echzell und bietet Fahrgeschäfte
 \, ein Festzelt mit Verpflegung und Live-Unterhaltung. Die Kerb findet jed
 es Jahr rund um den Tag der Deutschen Einheit statt. Der Eintritt ist frei
 .
GEO:50.390716;8.887706
LAST-MODIFIED:20260419T163353Z
LOCATION:Bahnhofstraße\, 61209\, Echzell
STATUS:CONFIRMED
URL:https://kulvio.de/event/2951
END:VEVENT
END:VCALENDAR
