BEGIN:VCALENDAR
VERSION:2.0
PRODID:-//Kulvio Event Calendar//kulvio.de//
CALSCALE:GREGORIAN
METHOD:PUBLISH
BEGIN:VEVENT
SUMMARY:Echzeller Kerb 2026 — Samstag
DTSTART:20261003T090000Z
DTEND:20261003T215900Z
DTSTAMP:20260421T042118Z
UID:kulvio-event-2952@kulvio.de
CATEGORIES:Stadtfest,Tradition
CREATED:20260419T161341Z
DESCRIPTION:Am Samstag erreicht die Echzeller Kerb ihren Höhepunkt mit Fe
 stzeltbetrieb\, Fahrgeschäften und einem bunten Programm für alle Alters
 gruppen. Der Tag der Deutschen Einheit fällt 2026 auf einen Samstag und v
 erleiht dem Kerbwochenende eine besondere Festtagsstimmung. Die Kerb ist e
 in traditionelles Volksfest der Wetterauer Gemeinde.
GEO:50.390716;8.887706
LAST-MODIFIED:20260419T163353Z
LOCATION:Bahnhofstraße\, 61209\, Echzell
STATUS:CONFIRMED
URL:https://kulvio.de/event/2952
END:VEVENT
END:VCALENDAR
