BEGIN:VCALENDAR
VERSION:2.0
PRODID:-//Kulvio Event Calendar//kulvio.de//
CALSCALE:GREGORIAN
METHOD:PUBLISH
BEGIN:VEVENT
SUMMARY:Echzeller Kerb 2026 — Sonntag
DTSTART:20261004T090000Z
DTEND:20261004T200000Z
DTSTAMP:20260421T042311Z
UID:kulvio-event-2953@kulvio.de
CATEGORIES:Stadtfest,Tradition
CREATED:20260419T161341Z
DESCRIPTION:Am Sonntag klingt die Echzeller Kerb mit einem Familientag und
  den letzten Runden auf den Fahrgeschäften aus. Der Kerbgottesdienst am V
 ormittag gehört zur Tradition der Kirchweih in Echzell. Die Kerb endet am
  Sonntagabend rund um den Festplatz an der Bahnhofstraße.
GEO:50.390716;8.887706
LAST-MODIFIED:20260419T163353Z
LOCATION:Bahnhofstraße\, 61209\, Echzell
STATUS:CONFIRMED
URL:https://kulvio.de/event/2953
END:VEVENT
END:VCALENDAR
