BEGIN:VCALENDAR
VERSION:2.0
PRODID:-//Kulvio Event Calendar//kulvio.de//
CALSCALE:GREGORIAN
METHOD:PUBLISH
BEGIN:VEVENT
SUMMARY:Adventsbasar der Lebensgemeinschaft Bingenheim
DTSTART:20261128T100000Z
DTEND:20261128T170000Z
DTSTAMP:20260421T043141Z
UID:kulvio-event-2954@kulvio.de
CATEGORIES:Weihnachtsmarkt
CREATED:20260419T161341Z
DESCRIPTION:Die Lebensgemeinschaft Bingenheim lädt zum jährlichen Advent
 sbasar auf das Gelände an der Schlossstraße in Echzell-Bingenheim ein. P
 rodukte aus den eigenen Werkstätten\, Kunsthandwerk\, Bienenwachskerzen u
 nd kulinarische Angebote aus biologischem Anbau stehen zum Verkauf. Der Ba
 sar bietet ein vorweihnachtliches Erlebnis in der anthroposophischen Leben
 s- und Arbeitsgemeinschaft. Der Eintritt ist frei.
GEO:50.373474;8.89465
LAST-MODIFIED:20260419T163353Z
LOCATION:Lebensgemeinschaft Bingenheim\, Schlossstraße 9\, 61209\, Echzel
 l
STATUS:CONFIRMED
URL:https://kulvio.de/event/2954
END:VEVENT
END:VCALENDAR
