BEGIN:VCALENDAR
VERSION:2.0
PRODID:-//Kulvio Event Calendar//kulvio.de//
CALSCALE:GREGORIAN
METHOD:PUBLISH
BEGIN:VEVENT
SUMMARY:Florstadt Kulturell: Rocknacht mit Seven Hell und Mayer Band
DTSTART:20260502T173000Z
DTEND:20260502T183000Z
DTSTAMP:20260421T042425Z
UID:kulvio-event-2955@kulvio.de
CATEGORIES:Konzert
CREATED:20260419T161352Z
DESCRIPTION:Die Rocknacht im Bürgerhaus Nieder-Florstadt bildet den Aufta
 kt der Reihe Florstadt Kulturell 2026. Seven Hell und die Mayer Band sorge
 n für einen Abend voller Rock-Musik in der Freiherr-vom-Stein-Straße. Ei
 nlass ist ab 19 Uhr\, der Konzertbeginn um 19:30 Uhr. Tickets sind über A
 Dticket und Reservix erhältlich.
GEO:50.323375;8.868788
LAST-MODIFIED:20260419T163353Z
LOCATION:Bürgerhaus Nieder-Florstadt\, Freiherr-vom-Stein-Straße 1\, 611
 97\, Florstadt
STATUS:CONFIRMED
URL:https://kulvio.de/event/2955
END:VEVENT
END:VCALENDAR
