BEGIN:VCALENDAR
VERSION:2.0
PRODID:-//Kulvio Event Calendar//kulvio.de//
CALSCALE:GREGORIAN
METHOD:PUBLISH
BEGIN:VEVENT
SUMMARY:Gisa Pauly liest aus Windjammer — Florstadt Kulturell
DTSTART:20260514T180000Z
DTEND:20260514T190000Z
DTSTAMP:20260421T042311Z
UID:kulvio-event-2956@kulvio.de
CATEGORIES:Lesung
CREATED:20260419T161352Z
DESCRIPTION:Die Autorin Gisa Pauly gastiert im Saalbau Lux in Florstadt un
 d liest aus ihrem Buch Windjammer. Pauly ist bekannt für ihre erfolgreich
 en Kriminalromane rund um die Sylter Ermittlerin Mamma Carlotta. Die Lesun
 g beginnt um 20 Uhr im historischen Saalbau an der Altenstädter Straße. 
 Tickets sind ab 16\,60 Euro über Reservix erhältlich.
GEO:50.317868;8.862133
LAST-MODIFIED:20260419T163353Z
LOCATION:Saalbau Lux\, Altenstädter Straße 18\, 61197\, Florstadt
STATUS:CONFIRMED
URL:https://kulvio.de/event/2956
END:VEVENT
END:VCALENDAR
