BEGIN:VCALENDAR
VERSION:2.0
PRODID:-//Kulvio Event Calendar//kulvio.de//
CALSCALE:GREGORIAN
METHOD:PUBLISH
BEGIN:VEVENT
SUMMARY:Anne Vogd: Gegendert wird was auf den Tisch kommt — Florstadt Ku
 lturell
DTSTART:20260530T180000Z
DTEND:20260530T190000Z
DTSTAMP:20260421T042502Z
UID:kulvio-event-2957@kulvio.de
CATEGORIES:Comedy
CREATED:20260419T161352Z
DESCRIPTION:Die Comedienne Anne Vogd präsentiert ihr Programm Gegendert w
 ird was auf den Tisch kommt im Saalbau Lux in Florstadt. Mit pointiertem H
 umor nimmt Vogd gesellschaftliche Debatten und Alltagsphänomene aufs Korn
 . Die Veranstaltung ist Teil der Reihe Florstadt Kulturell und beginnt um 
 20 Uhr. Tickets sind ab 19\,90 Euro im Vorverkauf erhältlich.
GEO:50.317868;8.862133
LAST-MODIFIED:20260419T163353Z
LOCATION:Saalbau Lux\, Altenstädter Straße 18\, 61197\, Florstadt
STATUS:CONFIRMED
URL:https://kulvio.de/event/2957
END:VEVENT
END:VCALENDAR
