BEGIN:VCALENDAR
VERSION:2.0
PRODID:-//Kulvio Event Calendar//kulvio.de//
CALSCALE:GREGORIAN
METHOD:PUBLISH
BEGIN:VEVENT
SUMMARY:Gadde Crew Open Air 2026 in Ober-Florstadt
DTSTART:20260718T160000Z
DTEND:20260718T215900Z
DTSTAMP:20260421T043152Z
UID:kulvio-event-2958@kulvio.de
CATEGORIES:Festival,Open-Air
CREATED:20260419T161352Z
DESCRIPTION:Die Gadde Crew Ober-Florstadt veranstaltet ihr jährliches Ope
 n-Air-Festival am Radweg R4 zwischen Ober-Florstadt und Staden. Die DJs Ni
 ze-T und Jey Aux Platines sorgen für ein abwechslungsreiches Programm aus
  aktuellen Hits und Club-Klassikern unter freiem Himmel. Das Festival vers
 pricht ein größeres Programm als in den Vorjahren. Die Abendkasse beträ
 gt 15 Euro.
GEO:50.325785;8.874887
LAST-MODIFIED:20260419T163353Z
LOCATION:Radweg R4\, Ober-Florstadt\, 61197\, Florstadt
STATUS:CONFIRMED
URL:https://kulvio.de/event/2958
END:VEVENT
END:VCALENDAR
