BEGIN:VCALENDAR
VERSION:2.0
PRODID:-//Kulvio Event Calendar//kulvio.de//
CALSCALE:GREGORIAN
METHOD:PUBLISH
BEGIN:VEVENT
SUMMARY:FaberhaftGuth: Dietrich Faber und Martin Guth — Florstadt Kultur
 ell
DTSTART:20260919T180000Z
DTEND:20260919T190000Z
DTSTAMP:20260421T042434Z
UID:kulvio-event-2959@kulvio.de
CATEGORIES:Kabarett
CREATED:20260419T161352Z
DESCRIPTION:Das Kabarett-Duo Dietrich Faber und Martin Guth tritt mit ihre
 m Programm FaberhaftGuth im Bürgerhaus Stammheim auf. Die beiden hessisch
 en Kabarettisten verbinden Wortwitz mit musikalischen Einlagen und gelten 
 als feste Größen der regionalen Kleinkunstszene. Die Veranstaltung ist T
 eil der Reihe Florstadt Kulturell und beginnt um 20 Uhr. Tickets sind ab 2
 5\,40 Euro erhältlich.
GEO:50.311839;8.915637
LAST-MODIFIED:20260419T163353Z
LOCATION:Bürgerhaus Stammheim\, Hainbachstraße 1\, 61197\, Florstadt
STATUS:CONFIRMED
URL:https://kulvio.de/event/2959
END:VEVENT
END:VCALENDAR
