BEGIN:VCALENDAR
VERSION:2.0
PRODID:-//Kulvio Event Calendar//kulvio.de//
CALSCALE:GREGORIAN
METHOD:PUBLISH
BEGIN:VEVENT
SUMMARY:Tina Häussermann: Supertina rettet die Welt — Florstadt Kulture
 ll
DTSTART:20260926T180000Z
DTEND:20260926T190000Z
DTSTAMP:20260421T042458Z
UID:kulvio-event-2960@kulvio.de
CATEGORIES:Comedy
CREATED:20260419T161352Z
DESCRIPTION:Die Comedienne Tina Häussermann gastiert mit ihrem Programm S
 upertina rettet die Welt im Saalbau Lux in Florstadt. Häussermann ist bek
 annt für ihre energiegeladenen Auftritte und ihre Mischung aus Comedy und
  Kabarett. Die Veranstaltung findet im Rahmen von Florstadt Kulturell stat
 t und beginnt um 20 Uhr. Tickets sind ab 19 Euro im Vorverkauf erhältlich
 .
GEO:50.317868;8.862133
LAST-MODIFIED:20260419T163353Z
LOCATION:Saalbau Lux\, Altenstädter Straße 18\, 61197\, Florstadt
STATUS:CONFIRMED
URL:https://kulvio.de/event/2960
END:VEVENT
END:VCALENDAR
