BEGIN:VCALENDAR
VERSION:2.0
PRODID:-//Kulvio Event Calendar//kulvio.de//
CALSCALE:GREGORIAN
METHOD:PUBLISH
BEGIN:VEVENT
SUMMARY:Escape Dinner im Bürgerhaus Nieder-Mockstadt — Florstadt Kultur
 ell
DTSTART:20261017T163000Z
DTEND:20261017T173000Z
DTSTAMP:20260421T042802Z
UID:kulvio-event-2961@kulvio.de
CATEGORIES:Workshop,Tasting
CREATED:20260419T161352Z
DESCRIPTION:Beim Escape Dinner im Bürgerhaus Nieder-Mockstadt verbindet s
 ich ein 3-Gänge-Menü mit einem interaktiven Rätsel-Erlebnis. Die Gäste
  lösen gemeinsam Rätsel und Aufgaben während des Abendessens und erlebe
 n eine Mischung aus Dinner-Event und Escape-Room. Die Veranstaltung ist Te
 il der Reihe Florstadt Kulturell und beginnt um 18:30 Uhr. Tickets kosten 
 ab 95 Euro und beinhalten das Menü.
GEO:50.3305;8.942469
LAST-MODIFIED:20260419T163353Z
LOCATION:Bürgerhaus Nieder-Mockstadt\, Goldbachstraße 2\, 61197\, Florst
 adt
STATUS:CONFIRMED
URL:https://kulvio.de/event/2961
END:VEVENT
END:VCALENDAR
