BEGIN:VCALENDAR
VERSION:2.0
PRODID:-//Kulvio Event Calendar//kulvio.de//
CALSCALE:GREGORIAN
METHOD:PUBLISH
BEGIN:VEVENT
SUMMARY:Tom Jet und Rudel SingSang: Rocking around the Christmas Tree — 
 Florstadt Kulturell
DTSTART:20261127T190000Z
DTEND:20261127T200000Z
DTSTAMP:20260421T042810Z
UID:kulvio-event-2962@kulvio.de
CATEGORIES:Konzert
CREATED:20260419T161352Z
DESCRIPTION:Tom Jet und Rudel SingSang bringen weihnachtliche Rock-Stimmun
 g in den Saalbau Lux in Florstadt. Das Konzert Rocking around the Christma
 s Tree verbindet Rock-Klassiker mit weihnachtlichen Klängen und bietet ei
 nen musikalischen Auftakt in die Adventszeit. Die Veranstaltung ist Teil d
 er Reihe Florstadt Kulturell und beginnt um 20 Uhr. Tickets sind ab 17\,70
  Euro erhältlich.
GEO:50.317868;8.862133
LAST-MODIFIED:20260419T163353Z
LOCATION:Saalbau Lux\, Altenstädter Straße 18\, 61197\, Florstadt
STATUS:CONFIRMED
URL:https://kulvio.de/event/2962
END:VEVENT
END:VCALENDAR
