BEGIN:VCALENDAR
VERSION:2.0
PRODID:-//Kulvio Event Calendar//kulvio.de//
CALSCALE:GREGORIAN
METHOD:PUBLISH
BEGIN:VEVENT
SUMMARY:Romantischer Weihnachtsmarkt Florstadt — Samstag
DTSTART:20261128T130000Z
DTEND:20261128T210000Z
DTSTAMP:20260421T042005Z
UID:kulvio-event-2963@kulvio.de
CATEGORIES:Weihnachtsmarkt
CREATED:20260419T161352Z
DESCRIPTION:Der Romantische Weihnachtsmarkt in Florstadt öffnet am ersten
  Adventswochenende in der Weitgasse im Stadtteil Nieder-Florstadt. Zwische
 n historischen Fachwerkhäusern bieten die Stände Kunsthandwerk\, Weihnac
 htsdekoration und kulinarische Spezialitäten an. Der Markt findet traditi
 onell jedes Jahr am ersten Advent statt und zieht rund 2000 Besucher an. D
 er Eintritt ist frei.
GEO:50.320088;8.905006
LAST-MODIFIED:20260419T163353Z
LOCATION:Weitgasse\, Nieder-Florstadt\, 61197\, Florstadt
STATUS:CONFIRMED
URL:https://kulvio.de/event/2963
END:VEVENT
END:VCALENDAR
