BEGIN:VCALENDAR
VERSION:2.0
PRODID:-//Kulvio Event Calendar//kulvio.de//
CALSCALE:GREGORIAN
METHOD:PUBLISH
BEGIN:VEVENT
SUMMARY:Romantischer Weihnachtsmarkt Florstadt — Sonntag
DTSTART:20261129T100000Z
DTEND:20261129T170000Z
DTSTAMP:20260421T041935Z
UID:kulvio-event-2964@kulvio.de
CATEGORIES:Weihnachtsmarkt
CREATED:20260419T161352Z
DESCRIPTION:Am Sonntag empfängt der Romantische Weihnachtsmarkt in der We
 itgasse in Nieder-Florstadt die Besucher erneut mit Handwerkskunst\, Glüh
 wein und weihnachtlichen Leckereien. Um 15 Uhr kommt der Nikolaus und vert
 eilt Geschenke an die Kinder. Der Markt klingt am frühen Abend aus und bi
 ldet den Abschluss des Adventswochenendes.
GEO:50.320088;8.905006
LAST-MODIFIED:20260419T163353Z
LOCATION:Weitgasse\, Nieder-Florstadt\, 61197\, Florstadt
STATUS:CONFIRMED
URL:https://kulvio.de/event/2964
END:VEVENT
END:VCALENDAR
