BEGIN:VCALENDAR
VERSION:2.0
PRODID:-//Kulvio Event Calendar//kulvio.de//
CALSCALE:GREGORIAN
METHOD:PUBLISH
BEGIN:VEVENT
SUMMARY:Lucy van Kuhl - Geschickt verpackt
DTSTART:20260423T180000Z
DTEND:20260423T200000Z
DTSTAMP:20260421T042123Z
UID:kulvio-event-2965@kulvio.de
CATEGORIES:Kabarett
CREATED:20260419T161417Z
DESCRIPTION:Die Kabarettistin und Liedermacherin Lucy van Kuhl gastiert mi
 t ihrem Programm Geschickt verpackt im Lichtspielhaus Ginsheim. In der his
 torischen Kinokulisse verbindet sie pointierte Texte mit Musik und nimmt d
 ie Absurditäten des Alltags aufs Korn. Das Lichtspielhaus in der Frankfur
 ter Straße ist als Kleinkunstbühne seit Jahren ein fester Anlaufpunkt f
 ür Kabarett und Konzerte in der Mainspitze.
GEO:49.965934;8.345372
LAST-MODIFIED:20260419T163353Z
LOCATION:Lichtspielhaus Ginsheim\, Frankfurter Straße 7\, 65462\, Ginshei
 m-Gustavsburg
STATUS:CONFIRMED
URL:https://kulvio.de/event/2965
END:VEVENT
END:VCALENDAR
