BEGIN:VCALENDAR
VERSION:2.0
PRODID:-//Kulvio Event Calendar//kulvio.de//
CALSCALE:GREGORIAN
METHOD:PUBLISH
BEGIN:VEVENT
SUMMARY:Purple Schulz - Ich hab nicht ewig Zeit
DTSTART:20260425T180000Z
DTEND:20260425T200000Z
DTSTAMP:20260421T042501Z
UID:kulvio-event-2966@kulvio.de
CATEGORIES:Konzert
CREATED:20260419T161417Z
DESCRIPTION:Der Kölner Liedermacher Purple Schulz präsentiert sein Progr
 amm Ich hab nicht ewig Zeit im Lichtspielhaus Ginsheim. Bekannt durch Hits
  wie Sehnsucht und Kleine Seen verbindet er in seinem aktuellen Bühnenpro
 gramm persönliche Geschichten mit Musik. Der Abend im historischen Kinosa
 al bietet eine intime Konzertatmosphäre für Fans deutschsprachiger Liede
 rmacherkunst.
GEO:49.965934;8.345372
LAST-MODIFIED:20260419T163353Z
LOCATION:Lichtspielhaus Ginsheim\, Frankfurter Straße 7\, 65462\, Ginshei
 m-Gustavsburg
STATUS:CONFIRMED
URL:https://kulvio.de/event/2966
END:VEVENT
END:VCALENDAR
