BEGIN:VCALENDAR
VERSION:2.0
PRODID:-//Kulvio Event Calendar//kulvio.de//
CALSCALE:GREGORIAN
METHOD:PUBLISH
BEGIN:VEVENT
SUMMARY:Jazz im Kino - Gee Hye Lee Quintett
DTSTART:20260429T180000Z
DTEND:20260429T200000Z
DTSTAMP:20260421T042311Z
UID:kulvio-event-2967@kulvio.de
CATEGORIES:Konzert
CREATED:20260419T161417Z
DESCRIPTION:Die Reihe Jazz im Kino bringt das Gee Hye Lee Quintett auf die
  Bühne der Burg-Lichtspiele in Gustavsburg. Die südkoreanische Sängerin
  Gee Hye Lee und ihr Quintett spielen modernen Jazz in der besonderen Atmo
 sphäre des historischen Kinosaals. Die Jazz-im-Kino-Reihe hat sich als fe
 ster Bestandteil des Kulturprogramms in Ginsheim-Gustavsburg etabliert.
GEO:49.996783;8.321502
LAST-MODIFIED:20260419T163353Z
LOCATION:Burg-Lichtspiele\, Darmstädter Landstraße 62\, 65462\, Ginsheim
 -Gustavsburg
STATUS:CONFIRMED
URL:https://kulvio.de/event/2967
END:VEVENT
END:VCALENDAR
