BEGIN:VCALENDAR
VERSION:2.0
PRODID:-//Kulvio Event Calendar//kulvio.de//
CALSCALE:GREGORIAN
METHOD:PUBLISH
BEGIN:VEVENT
SUMMARY:Tanz in den Mai
DTSTART:20260430T180000Z
DTEND:20260501T000000Z
DTSTAMP:20260421T042427Z
UID:kulvio-event-2968@kulvio.de
CATEGORIES:Party,Tanz
CREATED:20260419T161417Z
DESCRIPTION:Die Burg-Lichtspiele in Gustavsburg laden zum Tanz in den Mai 
 ein. Am Vorabend des 1. Mai wird der historische Kinosaal zur Tanzfläche 
 für alle\, die den Frühling feiern wollen. Die Veranstaltung in der Darm
 städter Landstraße gehört zu den geselligen Traditionen in der Mainspit
 ze.
GEO:49.996783;8.321502
LAST-MODIFIED:20260419T163353Z
LOCATION:Burg-Lichtspiele\, Darmstädter Landstraße 62\, 65462\, Ginsheim
 -Gustavsburg
STATUS:CONFIRMED
URL:https://kulvio.de/event/2968
END:VEVENT
END:VCALENDAR
