BEGIN:VCALENDAR
VERSION:2.0
PRODID:-//Kulvio Event Calendar//kulvio.de//
CALSCALE:GREGORIAN
METHOD:PUBLISH
BEGIN:VEVENT
SUMMARY:Christian Döring - Kabarett
DTSTART:20260508T173000Z
DTEND:20260508T193000Z
DTSTAMP:20260421T034740Z
UID:kulvio-event-2969@kulvio.de
CATEGORIES:Kabarett
CREATED:20260419T161417Z
DESCRIPTION:Der Kabarettist Christian Döring gastiert im Lichtspielhaus G
 insheim. In seinem Programm nimmt er politische und gesellschaftliche Them
 en mit scharfem Witz und hessischem Humor aufs Korn. Das Lichtspielhaus bi
 etet mit seinem intimen Kinosaal einen passenden Rahmen für einen Kabaret
 tabend in der Mainspitze.
GEO:49.965934;8.345372
LAST-MODIFIED:20260419T163353Z
LOCATION:Lichtspielhaus Ginsheim\, Frankfurter Straße 7\, 65462\, Ginshei
 m-Gustavsburg
STATUS:CONFIRMED
URL:https://kulvio.de/event/2969
END:VEVENT
END:VCALENDAR
