BEGIN:VCALENDAR
VERSION:2.0
PRODID:-//Kulvio Event Calendar//kulvio.de//
CALSCALE:GREGORIAN
METHOD:PUBLISH
BEGIN:VEVENT
SUMMARY:68. Burgfest Gustavsburg - Freitag
DTSTART:20260522T160000Z
DTEND:20260522T215900Z
DTSTAMP:20260421T042436Z
UID:kulvio-event-2970@kulvio.de
CATEGORIES:Festival,Stadtfest
CREATED:20260419T161417Z
DESCRIPTION:Das 68. Burgfest Gustavsburg eröffnet am Pfingstfreitag auf d
 en Festwiesen an der Ochsenwiese. Die Phil-Collins-Tributeband Still Colli
 ns spielt den Auftaktabend des viertägigen Volksfestes an der Mainspitze.
  Das Burgfest ist seit über sechs Jahrzehnten das größte Fest in Ginshe
 im-Gustavsburg und verbindet Live-Musik\, Gastronomie der Ortsvereine und 
 Fahrgeschäfte. Der Eintritt ist frei.
GEO:49.984535;8.325496
LAST-MODIFIED:20260419T163353Z
LOCATION:Ochsenwiese\, 65462\, Ginsheim-Gustavsburg
STATUS:CONFIRMED
URL:https://kulvio.de/event/2970
END:VEVENT
END:VCALENDAR
