BEGIN:VCALENDAR
VERSION:2.0
PRODID:-//Kulvio Event Calendar//kulvio.de//
CALSCALE:GREGORIAN
METHOD:PUBLISH
BEGIN:VEVENT
SUMMARY:68. Burgfest Gustavsburg - Samstag
DTSTART:20260523T140000Z
DTEND:20260523T215900Z
DTSTAMP:20260421T042010Z
UID:kulvio-event-2971@kulvio.de
CATEGORIES:Festival,Stadtfest
CREATED:20260419T161417Z
DESCRIPTION:Am Samstag geht das 68. Burgfest Gustavsburg mit der bayerisch
 en Partyband Münchner Zwietracht als Headliner weiter. Auf den Festwiesen
  an der Ochsenwiese erwartet die Besucher neben der Hauptbühne auch Gastr
 onomie der Gustavsburger Vereine und ein Vergnügungspark. Das traditionsr
 eiche Pfingstfest an der Mainspitze zieht jährlich tausende Besucher an.
GEO:49.984535;8.325496
LAST-MODIFIED:20260419T163353Z
LOCATION:Ochsenwiese\, 65462\, Ginsheim-Gustavsburg
STATUS:CONFIRMED
URL:https://kulvio.de/event/2971
END:VEVENT
END:VCALENDAR
