BEGIN:VCALENDAR
VERSION:2.0
PRODID:-//Kulvio Event Calendar//kulvio.de//
CALSCALE:GREGORIAN
METHOD:PUBLISH
BEGIN:VEVENT
SUMMARY:68. Burgfest Gustavsburg - Pfingstsonntag
DTSTART:20260524T080000Z
DTEND:20260524T215900Z
DTSTAMP:20260421T042313Z
UID:kulvio-event-2972@kulvio.de
CATEGORIES:Festival,Saisonmarkt,Stadtfest
CREATED:20260419T161417Z
DESCRIPTION:Am Pfingstsonntag verbindet das 68. Burgfest Gustavsburg den K
 ünstlermarkt mit über 90 Ausstellern im Burgpark mit Live-Musik auf der 
 Hauptbühne. Die Queen-Tributeband The Queen Kings tritt als Headliner auf
 \, ergänzt durch die Rockband MALLET im Künstlermarkt. Der Tag beginnt m
 it einem ökumenischen Gottesdienst und endet mit einem Feuerwerk.
GEO:49.984535;8.325496
LAST-MODIFIED:20260419T163353Z
LOCATION:Ochsenwiese\, 65462\, Ginsheim-Gustavsburg
STATUS:CONFIRMED
URL:https://kulvio.de/event/2972
END:VEVENT
END:VCALENDAR
