BEGIN:VCALENDAR
VERSION:2.0
PRODID:-//Kulvio Event Calendar//kulvio.de//
CALSCALE:GREGORIAN
METHOD:PUBLISH
BEGIN:VEVENT
SUMMARY:68. Burgfest Gustavsburg - Pfingstmontag
DTSTART:20260525T080000Z
DTEND:20260525T200000Z
DTSTAMP:20260421T042008Z
UID:kulvio-event-2973@kulvio.de
CATEGORIES:Festival,Stadtfest
CREATED:20260419T161417Z
DESCRIPTION:Am Pfingstmontag klingt das 68. Burgfest Gustavsburg mit einem
  Familiennachmittag und der Bon-Jovi-Tributeband BOUNCE aus. Liedermacher 
 Wolfgang Hering spielt ein Kindermitmachkonzert am Nachmittag\, während d
 er Künstlermarkt im Burgpark ein zweites Mal seine Tore öffnet. Das vier
 tägige Pfingstfest auf der Ochsenwiese endet traditionell am Montagabend.
GEO:49.984535;8.325496
LAST-MODIFIED:20260419T163353Z
LOCATION:Ochsenwiese\, 65462\, Ginsheim-Gustavsburg
STATUS:CONFIRMED
URL:https://kulvio.de/event/2973
END:VEVENT
END:VCALENDAR
