BEGIN:VCALENDAR
VERSION:2.0
PRODID:-//Kulvio Event Calendar//kulvio.de//
CALSCALE:GREGORIAN
METHOD:PUBLISH
BEGIN:VEVENT
SUMMARY:Ginsheimer Altrheinfest - Freitag
DTSTART:20260605T150000Z
DTEND:20260605T215900Z
DTSTAMP:20260421T042119Z
UID:kulvio-event-2974@kulvio.de
CATEGORIES:Stadtfest,Open-Air
CREATED:20260419T161417Z
DESCRIPTION:Das Ginsheimer Altrheinfest startet am Freitag mit der feierli
 chen Eröffnung am Altrheinufer. Ab 17 Uhr empfangen die Ginsheimer Ortsve
 reine die Besucher mit Speisen und Getränken auf dem Festgelände am Banz
 en. Am Abend sorgt Live-Musik auf der Bühne für Stimmung. Das viertägig
 e Heimatfest am Altrhein gehört zu den beliebtesten Festen in der Region.
GEO:49.984535;8.325496
LAST-MODIFIED:20260419T163353Z
LOCATION:Altrheinufer\, 65462\, Ginsheim-Gustavsburg
STATUS:CONFIRMED
URL:https://kulvio.de/event/2974
END:VEVENT
END:VCALENDAR
