BEGIN:VCALENDAR
VERSION:2.0
PRODID:-//Kulvio Event Calendar//kulvio.de//
CALSCALE:GREGORIAN
METHOD:PUBLISH
BEGIN:VEVENT
SUMMARY:Ginsheimer Altrheinfest - Samstag
DTSTART:20260606T130000Z
DTEND:20260606T215900Z
DTSTAMP:20260421T043150Z
UID:kulvio-event-2975@kulvio.de
CATEGORIES:Stadtfest,Open-Air
CREATED:20260419T161417Z
DESCRIPTION:Am Samstag lädt das Ginsheimer Altrheinfest zum Familiennachm
 ittag am Altrheinufer ein. Ab 15 Uhr erwarten die Besucher ein Kinderprogr
 amm\, gastronomische Angebote der Ginsheimer Vereine und am Abend Live-Mus
 ik auf der Festbühne. Das Festgelände am Banzen bietet eine besondere At
 mosphäre direkt am Wasser.
GEO:49.984535;8.325496
LAST-MODIFIED:20260419T163353Z
LOCATION:Altrheinufer\, 65462\, Ginsheim-Gustavsburg
STATUS:CONFIRMED
URL:https://kulvio.de/event/2975
END:VEVENT
END:VCALENDAR
