BEGIN:VCALENDAR
VERSION:2.0
PRODID:-//Kulvio Event Calendar//kulvio.de//
CALSCALE:GREGORIAN
METHOD:PUBLISH
BEGIN:VEVENT
SUMMARY:Ginsheimer Altrheinfest - Sonntag
DTSTART:20260607T080000Z
DTEND:20260607T215900Z
DTSTAMP:20260421T042009Z
UID:kulvio-event-2976@kulvio.de
CATEGORIES:Stadtfest,Open-Air
CREATED:20260419T161417Z
DESCRIPTION:Am Sonntag stehen beim Ginsheimer Altrheinfest die Drachenboot
 rennen auf dem Altrhein im Mittelpunkt. Neben dem sportlichen Wettbewerb a
 uf dem Wasser bieten die Vereine auf dem Festgelände am Banzen ein abwech
 slungsreiches Programm mit Live-Musik und kulinarischen Spezialitäten. Da
 s Heimatfest am Ginsheimer Altrhein zieht Besucher aus der gesamten Region
  an.
GEO:49.984535;8.325496
LAST-MODIFIED:20260419T163353Z
LOCATION:Altrheinufer\, 65462\, Ginsheim-Gustavsburg
STATUS:CONFIRMED
URL:https://kulvio.de/event/2976
END:VEVENT
END:VCALENDAR
