BEGIN:VCALENDAR
VERSION:2.0
PRODID:-//Kulvio Event Calendar//kulvio.de//
CALSCALE:GREGORIAN
METHOD:PUBLISH
BEGIN:VEVENT
SUMMARY:Ginsheimer Altrheinfest - Montag
DTSTART:20260608T120000Z
DTEND:20260608T200000Z
DTSTAMP:20260421T042119Z
UID:kulvio-event-2977@kulvio.de
CATEGORIES:Stadtfest,Open-Air
CREATED:20260419T161417Z
DESCRIPTION:Am Montag klingt das Ginsheimer Altrheinfest mit einem letzten
  Festtag am Altrheinufer aus. Ermäßigte Fahrgeschäftpreise am Nachmitta
 g locken Familien auf das Festgelände am Banzen. Den Abschluss des viert
 ägigen Heimatfests bildet ein Abschlussfeuerwerk über dem Altrhein.
GEO:49.984535;8.325496
LAST-MODIFIED:20260419T163353Z
LOCATION:Altrheinufer\, 65462\, Ginsheim-Gustavsburg
STATUS:CONFIRMED
URL:https://kulvio.de/event/2977
END:VEVENT
END:VCALENDAR
