BEGIN:VCALENDAR
VERSION:2.0
PRODID:-//Kulvio Event Calendar//kulvio.de//
CALSCALE:GREGORIAN
METHOD:PUBLISH
BEGIN:VEVENT
SUMMARY:Hof- und Straßenflohmarkt in der Cramer-Klett-Siedlung
DTSTART:20260613T070000Z
DTEND:20260613T130000Z
DTSTAMP:20260421T042431Z
UID:kulvio-event-2978@kulvio.de
CATEGORIES:Flohmarkt
CREATED:20260419T161417Z
DESCRIPTION:Der Hof- und Straßenflohmarkt in der Gustavsburger Cramer-Kle
 tt-Siedlung lädt zum Stöbern und Feilschen ein. Von 9 bis 15 Uhr bieten 
 Anwohner und Händler auf ihren Höfen und entlang der Straßen Trödel\, 
 Gebrauchtes und Kurioses an. Die historische Arbeitersiedlung aus der Grü
 nderzeit bietet eine besondere Kulisse für den Flohmarkt.
GEO:49.99637;8.327808
LAST-MODIFIED:20260419T163353Z
LOCATION:Cramer-Klett-Siedlung\, 65462\, Ginsheim-Gustavsburg
STATUS:CONFIRMED
URL:https://kulvio.de/event/2978
END:VEVENT
END:VCALENDAR
