BEGIN:VCALENDAR
VERSION:2.0
PRODID:-//Kulvio Event Calendar//kulvio.de//
CALSCALE:GREGORIAN
METHOD:PUBLISH
BEGIN:VEVENT
SUMMARY:WEINspitze auf dem Cramer-Klett-Platz
DTSTART:20260808T140000Z
DTEND:20260808T200000Z
DTSTAMP:20260421T042007Z
UID:kulvio-event-2979@kulvio.de
CATEGORIES:Tasting,Open-Air
CREATED:20260419T161417Z
DESCRIPTION:Die WEINspitze verwandelt den Cramer-Klett-Platz in Gustavsbur
 g in ein Weinfest unter freiem Himmel. Von 16 bis 22 Uhr können Besucher 
 regionale Weine verkosten und die sommerliche Atmosphäre auf dem Platz ge
 nießen. Die Veranstaltung bringt Weinkultur in die Mainspitze und ergänz
 t das Weinfest unter dem Kirschbaum der Kleingärtner.
GEO:49.996337;8.327777
LAST-MODIFIED:20260419T163353Z
LOCATION:Cramer-Klett-Platz\, 65462\, Ginsheim-Gustavsburg
STATUS:CONFIRMED
URL:https://kulvio.de/event/2979
END:VEVENT
END:VCALENDAR
