BEGIN:VCALENDAR
VERSION:2.0
PRODID:-//Kulvio Event Calendar//kulvio.de//
CALSCALE:GREGORIAN
METHOD:PUBLISH
BEGIN:VEVENT
SUMMARY:Weihnachtsmarkt Gustavsburg - Samstag
DTSTART:20261128T140000Z
DTEND:20261128T200000Z
DTSTAMP:20260421T034740Z
UID:kulvio-event-2980@kulvio.de
CATEGORIES:Weihnachtsmarkt
CREATED:20260419T161417Z
DESCRIPTION:Der Gustavsburger Weihnachtsmarkt auf dem Cramer-Klett-Platz e
 röffnet am ersten Adventswochenende die Vorweihnachtszeit in der Mainspit
 ze. Die Gustavsburger Vereine bieten an ihren Ständen Glühwein\, kulinar
 ische Spezialitäten und Kunsthandwerk an. Live-Musik sorgt für festliche
  Stimmung auf dem Platz im Herzen der historischen Arbeitersiedlung.
GEO:49.996337;8.327777
LAST-MODIFIED:20260419T163353Z
LOCATION:Cramer-Klett-Platz\, 65462\, Ginsheim-Gustavsburg
STATUS:CONFIRMED
URL:https://kulvio.de/event/2980
END:VEVENT
END:VCALENDAR
