BEGIN:VCALENDAR
VERSION:2.0
PRODID:-//Kulvio Event Calendar//kulvio.de//
CALSCALE:GREGORIAN
METHOD:PUBLISH
BEGIN:VEVENT
SUMMARY:Weihnachtsmarkt Gustavsburg - Sonntag
DTSTART:20261129T110000Z
DTEND:20261129T190000Z
DTSTAMP:20260421T084852Z
UID:kulvio-event-2981@kulvio.de
CATEGORIES:Weihnachtsmarkt
CREATED:20260419T161417Z
DESCRIPTION:Am Sonntag empfängt der Gustavsburger Weihnachtsmarkt die Bes
 ucher erneut auf dem Cramer-Klett-Platz. Die Stände der Vereine laden zum
  Bummeln ein und bieten weihnachtliche Leckereien und Geschenkideen. Der W
 eihnachtsmarkt am ersten Adventswochenende ist ein Treffpunkt für die Gus
 tavsburger Nachbarschaft.
GEO:49.996337;8.327777
LAST-MODIFIED:20260419T163353Z
LOCATION:Cramer-Klett-Platz\, 65462\, Ginsheim-Gustavsburg
STATUS:CONFIRMED
URL:https://kulvio.de/event/2981
END:VEVENT
END:VCALENDAR
