BEGIN:VCALENDAR
VERSION:2.0
PRODID:-//Kulvio Event Calendar//kulvio.de//
CALSCALE:GREGORIAN
METHOD:PUBLISH
BEGIN:VEVENT
SUMMARY:Weihnachtsmarkt Ginsheim - Samstag
DTSTART:20261212T140000Z
DTEND:20261212T200000Z
DTSTAMP:20260421T035202Z
UID:kulvio-event-2982@kulvio.de
CATEGORIES:Weihnachtsmarkt
CREATED:20260419T161417Z
DESCRIPTION:Der Ginsheimer Weihnachtsmarkt findet am dritten Adventswochen
 ende statt und bietet eine festliche Atmosphäre mit Ständen der Ginsheim
 er Vereine. Neben Glühwein und kulinarischen Angeboten erwartet die Besuc
 her ein Künstlermarkt mit handgefertigten Geschenken sowie Live-Musik. De
 r Weihnachtsmarkt in Ginsheim ergänzt den früheren Gustavsburger Markt a
 ls zweites Advents-Highlight der Mainspitze.
GEO:49.971698;8.341233
LAST-MODIFIED:20260419T163353Z
LOCATION:Ginsheim Ortskern\, 65462\, Ginsheim-Gustavsburg
STATUS:CONFIRMED
URL:https://kulvio.de/event/2982
END:VEVENT
END:VCALENDAR
