BEGIN:VCALENDAR
VERSION:2.0
PRODID:-//Kulvio Event Calendar//kulvio.de//
CALSCALE:GREGORIAN
METHOD:PUBLISH
BEGIN:VEVENT
SUMMARY:Weihnachtsmarkt Ginsheim - Sonntag
DTSTART:20261213T110000Z
DTEND:20261213T190000Z
DTSTAMP:20260421T034741Z
UID:kulvio-event-2983@kulvio.de
CATEGORIES:Weihnachtsmarkt
CREATED:20260419T161417Z
DESCRIPTION:Am Sonntag des dritten Adventswochenendes öffnet der Ginsheim
 er Weihnachtsmarkt ein zweites Mal seine Türen. Familien können durch di
 e Stände mit Kunsthandwerk und weihnachtlichen Leckereien der Ginsheimer 
 Vereine bummeln. Der Markt im Ginsheimer Ortskern bietet eine gemütliche 
 vorweihnachtliche Atmosphäre.
GEO:49.971698;8.341233
LAST-MODIFIED:20260419T163353Z
LOCATION:Ginsheim Ortskern\, 65462\, Ginsheim-Gustavsburg
STATUS:CONFIRMED
URL:https://kulvio.de/event/2983
END:VEVENT
END:VCALENDAR
