BEGIN:VCALENDAR
VERSION:2.0
PRODID:-//Kulvio Event Calendar//kulvio.de//
CALSCALE:GREGORIAN
METHOD:PUBLISH
BEGIN:VEVENT
SUMMARY:Bischofsheimer Kinderfest
DTSTART:20260509T110000Z
DTEND:20260509T170000Z
DTSTAMP:20260421T035112Z
UID:kulvio-event-2984@kulvio.de
CATEGORIES:Spielfest,Familienausflug
CREATED:20260419T161436Z
DESCRIPTION:Das Bischofsheimer Kinderfest verwandelt den Friedrich-Ebert-P
 latz in eine große Spielwiese für Familien. Ab 13 Uhr erwarten die klein
 en und großen Besucher Mitmachaktionen\, Spiele und Unterhaltung der ört
 lichen Vereine und Organisationen. Das jährliche Kinderfest in der Gemein
 de Bischofsheim an der Mainspitze ist ein fester Termin im Veranstaltungsk
 alender der Gemeinde.
GEO:49.986607;8.362242
LAST-MODIFIED:20260419T163353Z
LOCATION:Friedrich-Ebert-Platz\, 65474\, Bischofsheim
STATUS:CONFIRMED
URL:https://kulvio.de/event/2984
END:VEVENT
END:VCALENDAR
