BEGIN:VCALENDAR
VERSION:2.0
PRODID:-//Kulvio Event Calendar//kulvio.de//
CALSCALE:GREGORIAN
METHOD:PUBLISH
BEGIN:VEVENT
SUMMARY:Bischemer Kerb - Samstag
DTSTART:20260905T120000Z
DTEND:20260905T215900Z
DTSTAMP:20260421T034605Z
UID:kulvio-event-2985@kulvio.de
CATEGORIES:Stadtfest,Tradition
CREATED:20260419T161436Z
DESCRIPTION:Die Bischemer Kerb ist das traditionelle Kirchweihfest der Gem
 einde Bischofsheim an der Mainspitze. Am Samstag eröffnen die Schaustelle
 r und Vereine das dreitägige Fest im Ortskern mit Fahrgeschäften\, Festz
 eltstimmung und Live-Musik. Die Kerb rund um den Namenstag des Heiligen Ä
 gidius ist seit Generationen ein Höhepunkt im Bischofsheimer Festkalender
 .
GEO:49.993925;8.359812
LAST-MODIFIED:20260419T163353Z
LOCATION:Frankfurter Straße\, 65474\, Bischofsheim
STATUS:CONFIRMED
URL:https://kulvio.de/event/2985
END:VEVENT
END:VCALENDAR
