BEGIN:VCALENDAR
VERSION:2.0
PRODID:-//Kulvio Event Calendar//kulvio.de//
CALSCALE:GREGORIAN
METHOD:PUBLISH
BEGIN:VEVENT
SUMMARY:Bischemer Kerb - Sonntag mit Kerbumzug
DTSTART:20260906T090000Z
DTEND:20260906T215900Z
DTSTAMP:20260421T034509Z
UID:kulvio-event-2986@kulvio.de
CATEGORIES:Stadtfest,Tradition
CREATED:20260419T161436Z
DESCRIPTION:Am Sonntag erreicht die Bischemer Kerb ihren Höhepunkt mit de
 m traditionellen Kerbumzug durch den Bischofsheimer Ortskern. Die Vereine 
 und Gruppen ziehen am Nachmittag durch die Straßen\, begleitet von Musik 
 und Festwagen. Im Anschluss wird auf dem Festplatz weitergefeiert. Der Ker
 bsonntag ist der bestbesuchte Tag des Kirchweihfests.
GEO:49.993925;8.359812
LAST-MODIFIED:20260419T163353Z
LOCATION:Frankfurter Straße\, 65474\, Bischofsheim
STATUS:CONFIRMED
URL:https://kulvio.de/event/2986
END:VEVENT
END:VCALENDAR
