BEGIN:VCALENDAR
VERSION:2.0
PRODID:-//Kulvio Event Calendar//kulvio.de//
CALSCALE:GREGORIAN
METHOD:PUBLISH
BEGIN:VEVENT
SUMMARY:Bischemer Kerb - Montag
DTSTART:20260907T120000Z
DTEND:20260907T200000Z
DTSTAMP:20260421T034741Z
UID:kulvio-event-2987@kulvio.de
CATEGORIES:Stadtfest,Tradition
CREATED:20260419T161436Z
DESCRIPTION:Am Montag klingt die Bischemer Kerb mit einem letzten Festtag 
 im Bischofsheimer Ortskern aus. Die Fahrgeschäfte und Stände der Vereine
  sind ein letztes Mal geöffnet\, bevor das traditionsreiche Kirchweihfest
  an der Mainspitze für ein weiteres Jahr endet. Die Kerb am Montag bietet
  oft ermäßigte Preise bei den Schaustellern.
GEO:49.993925;8.359812
LAST-MODIFIED:20260419T163353Z
LOCATION:Frankfurter Straße\, 65474\, Bischofsheim
STATUS:CONFIRMED
URL:https://kulvio.de/event/2987
END:VEVENT
END:VCALENDAR
