BEGIN:VCALENDAR
VERSION:2.0
PRODID:-//Kulvio Event Calendar//kulvio.de//
CALSCALE:GREGORIAN
METHOD:PUBLISH
BEGIN:VEVENT
SUMMARY:Bischofsheimer Weihnachtsmarkt - Samstag
DTSTART:20261128T140000Z
DTEND:20261128T200000Z
DTSTAMP:20260421T035331Z
UID:kulvio-event-2988@kulvio.de
CATEGORIES:Weihnachtsmarkt
CREATED:20260419T161436Z
DESCRIPTION:Der Bischofsheimer Weihnachtsmarkt eröffnet am ersten Advents
 wochenende die Vorweihnachtszeit in der Gemeinde an der Mainspitze. Die ö
 rtlichen Vereine und Aussteller bieten Glühwein\, weihnachtliche Leckerei
 en und Kunsthandwerk an. Mit Livemusik und festlicher Beleuchtung stimmt d
 er Markt auf die Adventszeit ein.
GEO:49.993925;8.359812
LAST-MODIFIED:20260419T163353Z
LOCATION:Frankfurter Straße\, 65474\, Bischofsheim
STATUS:CONFIRMED
URL:https://kulvio.de/event/2988
END:VEVENT
END:VCALENDAR
