BEGIN:VCALENDAR
VERSION:2.0
PRODID:-//Kulvio Event Calendar//kulvio.de//
CALSCALE:GREGORIAN
METHOD:PUBLISH
BEGIN:VEVENT
SUMMARY:Bischofsheimer Weihnachtsmarkt - Sonntag
DTSTART:20261129T110000Z
DTEND:20261129T180000Z
DTSTAMP:20260421T034606Z
UID:kulvio-event-2989@kulvio.de
CATEGORIES:Weihnachtsmarkt
CREATED:20260419T161436Z
DESCRIPTION:Am ersten Adventssonntag empfängt der Bischofsheimer Weihnach
 tsmarkt die Besucher erneut im Ortskern der Gemeinde. Familien können dur
 ch die Stände bummeln und sich an Glühwein und weihnachtlichen Spezialit
 äten der Bischofsheimer Vereine erfreuen. Der Weihnachtsmarkt am ersten A
 dventswochenende ist ein fester Bestandteil des Gemeindelebens.
GEO:49.993925;8.359812
LAST-MODIFIED:20260419T163353Z
LOCATION:Frankfurter Straße\, 65474\, Bischofsheim
STATUS:CONFIRMED
URL:https://kulvio.de/event/2989
END:VEVENT
END:VCALENDAR
