BEGIN:VCALENDAR
VERSION:2.0
PRODID:-//Kulvio Event Calendar//kulvio.de//
CALSCALE:GREGORIAN
METHOD:PUBLISH
BEGIN:VEVENT
SUMMARY:Film: Maria — Programmkino KiKuRa Raunheim
DTSTART:20260425T180000Z
DTEND:20260425T190000Z
DTSTAMP:20260421T042424Z
UID:kulvio-event-2990@kulvio.de
CATEGORIES:Kino
CREATED:20260419T161510Z
DESCRIPTION:Das Programmkino des Kino- und Kulturvereins Raunheim zeigt de
 n Film Maria im KiKuRa am Stadtzentrum. Das Programmkino setzt auf ausgew
 ählte Filme abseits des Mainstreams und bietet ein besonderes Kinoerlebni
 s in gemütlicher Atmosphäre. Beginn ist um 20 Uhr\, Einlass kurz vorher.
GEO:50.008869;8.450693
LAST-MODIFIED:20260419T163353Z
LOCATION:KiKuRa Raunheim e.V.\, Am Stadtzentrum 2a\, 65479\, Raunheim
STATUS:CONFIRMED
URL:https://kulvio.de/event/2990
END:VEVENT
END:VCALENDAR
