BEGIN:VCALENDAR
VERSION:2.0
PRODID:-//Kulvio Event Calendar//kulvio.de//
CALSCALE:GREGORIAN
METHOD:PUBLISH
BEGIN:VEVENT
SUMMARY:Cinedinner: Rezept zum Glücklichsein — KiKuRa Raunheim
DTSTART:20260502T163000Z
DTEND:20260502T173000Z
DTSTAMP:20260421T042007Z
UID:kulvio-event-2991@kulvio.de
CATEGORIES:Kino,Kochkurs
CREATED:20260419T161510Z
DESCRIPTION:Beim Cinedinner im KiKuRa Raunheim verbindet sich kulinarische
 r Genuss mit Filmkunst. Zum Film Rezept zum Glücklichsein wird ein passen
 des Menü serviert\, das die ukrainische Küche in den Mittelpunkt stellt.
  Das Event beginnt um 18:30 Uhr und bietet ein besonderes Abendprogramm au
 s Essen und Kino in geselliger Runde.
GEO:50.008869;8.450693
LAST-MODIFIED:20260419T163353Z
LOCATION:KiKuRa Raunheim e.V.\, Am Stadtzentrum 2a\, 65479\, Raunheim
STATUS:CONFIRMED
URL:https://kulvio.de/event/2991
END:VEVENT
END:VCALENDAR
